Workbook

Sheet No.1
B1: 履 歴 書
Z2: 現在 | AB2: (1)
B3: ふりがな | Y3: 性 別 | AC3: 写真貼付
A4: （2） | B4: 氏名 | AC4: 作成日前6月以内に撮影した鮮明な写真(白黒・カラーどちらでも可、上半身、正面向、脱帽)
A5: （3） | B5: 生年月日 | L5: （ 年度末年齢 | P5: =IF(T5<100,T5,"") | R5: 歳） | S5: =IF(MONTH(TODAY())>3,DATE(YEAR(TODAY())+1,3,31),DATE(YEAR(TODAY()),3,31)) -> 46477 | T5: =DATEDIF(C5,S5,"Y") -> 127 | AD5: タテ 3.5 ～ 4.0
B6: 現住所 | C6: 〒 | G6: － | AD6: ×
AD7: ヨコ 3.0 ～ 3.5
B10: 電話番号 | C10: （自 宅） － － | O10: （携 帯） － －
B11: メールアドレス
B13: 学歴
A14: （4） | B14: 高等学校 | C14: 年 | F14: 月 | I14: 学校等名称（学校、学科） | AF14: 修了区分
A17: （5） | B17: 大学 短大 高等専門学校 専門学校等 | C17: 年 | E17: 月 | H17: 年 | J17: 月 | L17: 学校等名称（学校、学部、学科、コース） | AF17: 修了区分
G18: ～
G19: ～
G20: ～
G21: ～
A23: （6） | B23: 大学院 | C23: 年 | E23: 月 | H23: 年 | J23: 月 | L23: 学校等名称（学校、研究科、専攻・講座・課程） | AF23: 修了区分
G24: ～
G25: ～
G26: ～
G27: ～
A29: （7） | B29: 学位 | C29: 年 | E29: 月 | G29: 学位区分 | J29: 学位名称 | N29: 取得学校名
B33: 資格・免許
B34: 免許 試験 資格等 | C34: 取得年月日 | I34: 名 称 | AC34: 有効年月日
A35: （8） | C35: 年 | E35: 月 | G35: 日 | AC35: 年 | AE35: 月 | AG35: 日

Sheet No.2
B1: 職 歴 等
A2: (9) | B2: 自年月 | D2: 所属組織 | E2: 職名 | F2: 職務・研究従事内容 | H2: 勤務態様
B3: 至年月
B43: 賞 罰
A44: (10) | B44: 年 | C44: 月 | D44: 賞 罰
F50: 本履歴書記載内容に相違ありません。
B52: 記入に当たっては、「履歴書記入要領」をよく読んでください。 | F52: 氏名 | G52: =No.1!C4&No.1!N4

Sheet No.1 (予備様式)
B1: 履 歴 書
T2: =IF(No.1!T2="","",No.1!T2) | Z2: 現在
B3: ふりがな | C3: =IF(No.1!C3="","",No.1!C3) | N3: =IF(No.1!N3="","",No.1!N3) | Y3: 性 別
A4: （2） | B4: 氏名 | C4: =IF(No.1!C4="","",No.1!C4) | N4: =IF(No.1!N4="","",No.1!N4) | Y4: =IF(No.1!Y4="","",No.1!Y4)
A5: （3） | B5: 生年月日 | C5: =IF(No.1!C5="","",No.1!C5) | L5: （ 年度末年齢 | P5: =IF(No.1!P5="","",No.1!P5) | R5: 歳）
B6: 現住所 | C6: 〒 | D6: =IF(No.1!D6="","",No.1!D6) | E6: =IF(No.1!E6="","",No.1!E6) | F6: =IF(No.1!F6="","",No.1!F6) | G6: － | H6: =IF(No.1!H6="","",No.1!H6) | I6: =IF(No.1!I6="","",No.1!I6) | J6: =IF(No.1!J6="","",No.1!J6) | K6: =IF(No.1!K6="","",No.1!K6)
C7: =IF(No.1!C7="","",No.1!C7)
B10: 電話番号 | C10: =IF(No.1!C10="","",No.1!C10) -> （自 宅） － － | O10: =IF(No.1!O10="","",No.1!O10) -> （携 帯） － －
B11: メールアドレス | C11: =IF(No.1!C11="","",No.1!C11)
B13: 学歴
A14: （4） | B14: 高等学校 | C14: 年 | F14: 月 | I14: 学校等名称（学校、学科） | AF14: 修了区分
A17: （5） | B17: 大学 短大 高等専門学校 専門学校等 | C17: 年 | E17: 月 | H17: 年 | J17: 月 | L17: 学校等名称（学校、学部、学科、コース） | AF17: 修了区分
G18: ～
G19: ～
G20: ～
G21: ～
A23: （6） | B23: 大学院 | C23: 年 | E23: 月 | H23: 年 | J23: 月 | L23: 学校等名称（学校、研究科、専攻・講座・課程） | AF23: 修了区分
G24: ～
G25: ～
G26: ～
G27: ～
A29: （7） | B29: 学位 | C29: 年 | E29: 月 | G29: 学位区分 | J29: 学位名称 | N29: 取得学校名
B33: 資格・免許
B34: 免許 試験 資格等 | C34: 取得年月日 | I34: 名 称 | AC34: 有効年月日
A35: （8） | C35: 年 | E35: 月 | G35: 日 | AC35: 年 | AE35: 月 | AG35: 日

Sheet No.2 (予備様式)
B1: 職 歴 等
A2: (9) | B2: 自年月 | D2: 所属組織 | E2: 職名 | F2: 職務・研究従事内容 | H2: 勤務態様
B3: 至年月
B43: 賞 罰
A44: (10) | B44: 年 | C44: 月 | D44: 賞 罰
F50: 本履歴書記載内容に相違ありません。
B52: 記入に当たっては、「履歴書記入要領」をよく読んでください。 | F52: 氏名 | G52: =No.1!C4&No.1!N4
